BEGIN:VCALENDAR
VERSION:2.0
PRODID:-//XiA - ECPv6.15.11//NONSGML v1.0//EN
CALSCALE:GREGORIAN
METHOD:PUBLISH
X-ORIGINAL-URL:https://xia-project.iscte-iul.pt
X-WR-CALDESC:Events for XiA
REFRESH-INTERVAL;VALUE=DURATION:PT1H
X-Robots-Tag:noindex
X-PUBLISHED-TTL:PT1H
BEGIN:VTIMEZONE
TZID:Europe/Berlin
BEGIN:DAYLIGHT
TZOFFSETFROM:+0100
TZOFFSETTO:+0200
TZNAME:CEST
DTSTART:20250330T010000
END:DAYLIGHT
BEGIN:STANDARD
TZOFFSETFROM:+0200
TZOFFSETTO:+0100
TZNAME:CET
DTSTART:20251026T010000
END:STANDARD
BEGIN:DAYLIGHT
TZOFFSETFROM:+0100
TZOFFSETTO:+0200
TZNAME:CEST
DTSTART:20260329T010000
END:DAYLIGHT
BEGIN:STANDARD
TZOFFSETFROM:+0200
TZOFFSETTO:+0100
TZNAME:CET
DTSTART:20261025T010000
END:STANDARD
BEGIN:DAYLIGHT
TZOFFSETFROM:+0100
TZOFFSETTO:+0200
TZNAME:CEST
DTSTART:20270328T010000
END:DAYLIGHT
BEGIN:STANDARD
TZOFFSETFROM:+0200
TZOFFSETTO:+0100
TZNAME:CET
DTSTART:20271031T010000
END:STANDARD
END:VTIMEZONE
BEGIN:VTIMEZONE
TZID:Europe/Brussels
BEGIN:DAYLIGHT
TZOFFSETFROM:+0100
TZOFFSETTO:+0200
TZNAME:CEST
DTSTART:20250330T010000
END:DAYLIGHT
BEGIN:STANDARD
TZOFFSETFROM:+0200
TZOFFSETTO:+0100
TZNAME:CET
DTSTART:20251026T010000
END:STANDARD
BEGIN:DAYLIGHT
TZOFFSETFROM:+0100
TZOFFSETTO:+0200
TZNAME:CEST
DTSTART:20260329T010000
END:DAYLIGHT
BEGIN:STANDARD
TZOFFSETFROM:+0200
TZOFFSETTO:+0100
TZNAME:CET
DTSTART:20261025T010000
END:STANDARD
BEGIN:DAYLIGHT
TZOFFSETFROM:+0100
TZOFFSETTO:+0200
TZNAME:CEST
DTSTART:20270328T010000
END:DAYLIGHT
BEGIN:STANDARD
TZOFFSETFROM:+0200
TZOFFSETTO:+0100
TZNAME:CET
DTSTART:20271031T010000
END:STANDARD
END:VTIMEZONE
BEGIN:VEVENT
DTSTART;VALUE=DATE:20260302
DTEND;VALUE=DATE:20260304
DTSTAMP:20260424T222939
CREATED:20260217T110733Z
LAST-MODIFIED:20260218T084930Z
UID:2034-1772409600-1772582399@xia-project.iscte-iul.pt
SUMMARY:European Digital Healthcare Excellency Forum 2026
DESCRIPTION:XiA (Xpanding Innovative Alliance) will participate in the European Digital Healthcare Excellency Forum 2026\, taking place on 2–3 March 2026 in Frankfurt am Main\, Germany. \nThe forum brings together healthcare executives\, digital transformation leaders\, policymakers and technology providers to discuss strategic priorities for advancing digital health across Europe. As discussions focus on innovation\, operational excellence and cross-sector collaboration\, XiA will contribute by promoting interoperability skills development and supporting the implementation of the European Health Data Space (EHDS). \nAs Europe accelerates the digital transformation of healthcare systems\, interoperability and workforce readiness remain critical enablers of sustainable innovation. XiA will emphasise the importance of translating European interoperability frameworks — including HL7 FHIR and EHDS-related specifications — into structured learning pathways\, modular training programmes and recognised competencies across the healthcare ecosystem. \nIn particular\, XiA will highlight the importance of: \n\nStrengthening structured interoperability competencies across healthcare professions\nSupporting hospitals and digital health providers in the operational implementation of EHDS requirements\nBridging the gap between European digital health standards and real-world clinical practice\n\nXiA’s participation in the European Digital Healthcare Excellency Forum 2026 will contribute to reinforcing European dialogue on digital health transformation\, interoperability skills development and the sustainable implementation of the European Health Data Space.
URL:https://xia-project.iscte-iul.pt/event/european-digital-healthcare-excellency-forum-2026/
LOCATION:Melia Frankfurt City Hotel\, Senckenberganlage 13\, Frankfurt am Main\, 60325\, Germany
CATEGORIES:Congress
ATTACH;FMTTYPE=image/jpeg:https://xia-project.iscte-iul.pt/wp-content/uploads/2026/02/a6560cc3-2e4c-4741-856e-2d89cbf8bd1a.jpg
END:VEVENT
BEGIN:VEVENT
DTSTART;VALUE=DATE:20260303
DTEND;VALUE=DATE:20260305
DTSTAMP:20260424T222939
CREATED:20260217T113046Z
LAST-MODIFIED:20260218T084646Z
UID:2047-1772496000-1772668799@xia-project.iscte-iul.pt
SUMMARY:European Employment and Social Rights Forum 2026
DESCRIPTION:XiA (Xpanding Innovative Alliance) will participate in the European Employment and Social Rights Forum 2026\, taking place on 3–4 March 2026 in Brussels\, Belgium. \nOrganised by the European Commission\, the Forum is the EU’s flagship annual event on employment\, social rights and social policy. The 2026 edition will focus on strengthening Europe’s social model\, addressing labour shortages and supporting skills development across strategic sectors. \nWithin this context\, XiA will contribute to discussions related to workforce development\, digital transformation and the implementation of European frameworks supporting skills and interoperability in healthcare. As Europe advances the European Health Data Space (EHDS) and broader digital health initiatives\, strengthening structured competencies remains essential to ensure sustainable transformation. \nThrough its participation\, XiA will highlight the importance of: \n\nStrengthening structured digital and interoperability competencies across healthcare professions\nSupporting alignment between European policy frameworks and practical workforce implementation\nBridging the gap between European skills strategies and real-world sectoral needs\n\nXiA’s participation in the European Employment and Social Rights Forum 2026 will contribute to reinforcing European dialogue on skills development\, digital transformation and the sustainable implementation of EU strategic frameworks.
URL:https://xia-project.iscte-iul.pt/event/european-employment-and-social-rights-forum-2026/
LOCATION:The EGG Brussels\, Rue Bara 175\, Brussels\, 1070\, Belgium
CATEGORIES:Congress
ATTACH;FMTTYPE=image/png:https://xia-project.iscte-iul.pt/wp-content/uploads/2026/02/web-banner-EESRF_2026_3200×676-1-Modifie.png
END:VEVENT
END:VCALENDAR