BEGIN:VCALENDAR
VERSION:2.0
PRODID:-//XiA - ECPv6.15.11//NONSGML v1.0//EN
CALSCALE:GREGORIAN
METHOD:PUBLISH
X-WR-CALNAME:XiA
X-ORIGINAL-URL:https://xia-project.iscte-iul.pt
X-WR-CALDESC:Events for XiA
REFRESH-INTERVAL;VALUE=DURATION:PT1H
X-Robots-Tag:noindex
X-PUBLISHED-TTL:PT1H
BEGIN:VTIMEZONE
TZID:Europe/London
BEGIN:DAYLIGHT
TZOFFSETFROM:+0000
TZOFFSETTO:+0100
TZNAME:BST
DTSTART:20250330T010000
END:DAYLIGHT
BEGIN:STANDARD
TZOFFSETFROM:+0100
TZOFFSETTO:+0000
TZNAME:GMT
DTSTART:20251026T010000
END:STANDARD
BEGIN:DAYLIGHT
TZOFFSETFROM:+0000
TZOFFSETTO:+0100
TZNAME:BST
DTSTART:20260329T010000
END:DAYLIGHT
BEGIN:STANDARD
TZOFFSETFROM:+0100
TZOFFSETTO:+0000
TZNAME:GMT
DTSTART:20261025T010000
END:STANDARD
BEGIN:DAYLIGHT
TZOFFSETFROM:+0000
TZOFFSETTO:+0100
TZNAME:BST
DTSTART:20270328T010000
END:DAYLIGHT
BEGIN:STANDARD
TZOFFSETFROM:+0100
TZOFFSETTO:+0000
TZNAME:GMT
DTSTART:20271031T010000
END:STANDARD
END:VTIMEZONE
BEGIN:VEVENT
DTSTART;TZID=Europe/London:20260410T113500
DTEND;TZID=Europe/London:20260410T115500
DTSTAMP:20260424T204519
CREATED:20260402T091255Z
LAST-MODIFIED:20260402T091656Z
UID:2393-1775820900-1775822100@xia-project.iscte-iul.pt
SUMMARY:Is Europe's Health Workforce Ready for the Digital Shift? Join XiA’s upcoming Partner Session at the Digital Health Slovakia Forum
DESCRIPTION:As part of its 2026 communication and dissemination activities\, the XiA project is launching the XiA Partners Under Spotlight campaign\, a series of partner-hosted sessions designed to present the project’s work to professional and national ecosystems across Europe. Each webinar is hosted by a consortium member within their own professional community\, creating meaningful local anchors for a project with European ambition.  \nAbout the session \nThe first Partner Webinar will be hosted offline by Digital Health Slovakia\, on the Digital Health Slovakia Forum in Bratislava.   \nThe session will introduce the objectives and structure of the XiA project\, with a particular focus on why interoperability competencies are becoming essential for hospitals and health professionals. It will also provide insights into how XiA contributes to building practical\, recognised skills frameworks that support EHDS readiness across Europe\, while addressing national and ecosystem-specific challenges.  \nThe webinar will be presented to a professional network active in health data interoperability\, standards development\, and EHDS implementation.  \nSession details  \nTitle: Is the Workforce in Europe prepared for the Digital Transformation of Healthcare? The XiA Project: Closing the Digital Health Skills Gap in Europe  \nDate: 10th April 2026  \nTime: 11:35 CEST  \nFormat: Onsite webinar\, LOFT Hotel\, 81105 Bratislava  \nAudience: Hospital professionals\, health IT specialists\, policymakers\, and all stakeholders working in digital health  \n👉 Registration link : Select tickets – Digital Health Slovakia Forum – LOFT Hotel  \n  \nAbout Digital Health Slovakia  \nDigital Health Slovakia is an association with the main objective to provide a round-table platform to promote digitalization of healthcare in Slovakia\, including education\, advice\, research\, development\, and implementation of best practices. Within the XiA project\, the association contributes to the educational EHDS-related needs and gaps analysis of healthcare providers and industry\, supporting the development and dissemination of interoperability skills across Europe. 
URL:https://xia-project.iscte-iul.pt/event/is-europes-health-workforce-ready-for-the-digital-shift-join-xias-upcoming-partner-session-at-the-digital-health-slovakia-forum/
ATTACH;FMTTYPE=image/png:https://xia-project.iscte-iul.pt/wp-content/uploads/2026/04/DHS-Growing-the-alliance-for-EHDS-skills-1.png
END:VEVENT
END:VCALENDAR