BEGIN:VCALENDAR
VERSION:2.0
PRODID:-//XiA - ECPv6.15.11//NONSGML v1.0//EN
CALSCALE:GREGORIAN
METHOD:PUBLISH
X-ORIGINAL-URL:https://xia-project.iscte-iul.pt
X-WR-CALDESC:Events for XiA
REFRESH-INTERVAL;VALUE=DURATION:PT1H
X-Robots-Tag:noindex
X-PUBLISHED-TTL:PT1H
BEGIN:VTIMEZONE
TZID:Europe/London
BEGIN:DAYLIGHT
TZOFFSETFROM:+0000
TZOFFSETTO:+0100
TZNAME:BST
DTSTART:20240331T010000
END:DAYLIGHT
BEGIN:STANDARD
TZOFFSETFROM:+0100
TZOFFSETTO:+0000
TZNAME:GMT
DTSTART:20241027T010000
END:STANDARD
BEGIN:DAYLIGHT
TZOFFSETFROM:+0000
TZOFFSETTO:+0100
TZNAME:BST
DTSTART:20250330T010000
END:DAYLIGHT
BEGIN:STANDARD
TZOFFSETFROM:+0100
TZOFFSETTO:+0000
TZNAME:GMT
DTSTART:20251026T010000
END:STANDARD
BEGIN:DAYLIGHT
TZOFFSETFROM:+0000
TZOFFSETTO:+0100
TZNAME:BST
DTSTART:20260329T010000
END:DAYLIGHT
BEGIN:STANDARD
TZOFFSETFROM:+0100
TZOFFSETTO:+0000
TZNAME:GMT
DTSTART:20261025T010000
END:STANDARD
END:VTIMEZONE
BEGIN:VEVENT
DTSTART;TZID=Europe/London:20250519T090000
DTEND;TZID=Europe/London:20250521T150000
DTSTAMP:20260426T012902
CREATED:20250331T165459Z
LAST-MODIFIED:20250331T165459Z
UID:1518-1747645200-1747839600@xia-project.iscte-iul.pt
SUMMARY:Medical Informatics Europe 2025
DESCRIPTION:XiA will be presented by several members of the Consortium\, including the Universities of ISCTE\, Deggendorf Institute of Technology\, University of Oslo\, … \n“Advanced Technologies for Logging and Sharing Health Data”
URL:https://xia-project.iscte-iul.pt/event/medical-informatics-europe-2025/
CATEGORIES:Congress
END:VEVENT
BEGIN:VEVENT
DTSTART;TZID=Europe/London:20250519T090000
DTEND;TZID=Europe/London:20250522T160000
DTSTAMP:20260426T012902
CREATED:20250331T170149Z
LAST-MODIFIED:20250331T170149Z
UID:1521-1747645200-1747929600@xia-project.iscte-iul.pt
SUMMARY:Vitalis
DESCRIPTION:XiA will be presented during the keynote of Henrique Martins “European Health Data Space: The European Electronic Health Records Exchange Format Lesson from the XpanDH Project and Key Recommendations Moving Forward“
URL:https://xia-project.iscte-iul.pt/event/vitalis/
CATEGORIES:Congress
END:VEVENT
BEGIN:VEVENT
DTSTART;TZID=Europe/London:20250520T090000
DTEND;TZID=Europe/London:20250522T170000
DTSTAMP:20260426T012902
CREATED:20250331T170305Z
LAST-MODIFIED:20250625T090729Z
UID:1523-1747731600-1747933200@xia-project.iscte-iul.pt
SUMMARY:SantExpo
DESCRIPTION:XiA will be presented on the Rennes Demain booth “With EHDS\, interoperability is no longer an option! Anticipate and train your teams thanks to the European XiA project” by Luc Chatty and Fanch Rouault from Fyrstain\, XiA consortium member.
URL:https://xia-project.iscte-iul.pt/event/santexpo/
CATEGORIES:Congress
END:VEVENT
END:VCALENDAR