BEGIN:VCALENDAR
VERSION:2.0
PRODID:-//XiA - ECPv6.15.11//NONSGML v1.0//EN
CALSCALE:GREGORIAN
METHOD:PUBLISH
X-WR-CALNAME:XiA
X-ORIGINAL-URL:https://xia-project.iscte-iul.pt
X-WR-CALDESC:Events for XiA
REFRESH-INTERVAL;VALUE=DURATION:PT1H
X-Robots-Tag:noindex
X-PUBLISHED-TTL:PT1H
BEGIN:VTIMEZONE
TZID:Europe/London
BEGIN:DAYLIGHT
TZOFFSETFROM:+0000
TZOFFSETTO:+0100
TZNAME:BST
DTSTART:20240331T010000
END:DAYLIGHT
BEGIN:STANDARD
TZOFFSETFROM:+0100
TZOFFSETTO:+0000
TZNAME:GMT
DTSTART:20241027T010000
END:STANDARD
BEGIN:DAYLIGHT
TZOFFSETFROM:+0000
TZOFFSETTO:+0100
TZNAME:BST
DTSTART:20250330T010000
END:DAYLIGHT
BEGIN:STANDARD
TZOFFSETFROM:+0100
TZOFFSETTO:+0000
TZNAME:GMT
DTSTART:20251026T010000
END:STANDARD
BEGIN:DAYLIGHT
TZOFFSETFROM:+0000
TZOFFSETTO:+0100
TZNAME:BST
DTSTART:20260329T010000
END:DAYLIGHT
BEGIN:STANDARD
TZOFFSETFROM:+0100
TZOFFSETTO:+0000
TZNAME:GMT
DTSTART:20261025T010000
END:STANDARD
END:VTIMEZONE
BEGIN:VEVENT
DTSTART;TZID=Europe/London:20250724T080000
DTEND;TZID=Europe/London:20250726T170000
DTSTAMP:20260425T173508
CREATED:20251015T081136Z
LAST-MODIFIED:20251015T152403Z
UID:1826-1753344000-1753549200@xia-project.iscte-iul.pt
SUMMARY:10th International Digital Public Health Conference (DPH2025)
DESCRIPTION:XiA participated in the 10th International Digital Public Health Conference (#DPH2025) in Madeira\, a landmark moment celebrating ten years of advancing digital transformation in public health across Europe and beyond. DPH2025 will gather key players from the global health ecosystem – including policymakers\, healthcare providers\, startups\, researchers\, and investors – for a dynamic and future-oriented programme designed to inspire action\, foster collaboration\, and accelerate impact. \n\n\n\n\n\n\n\n\n\n\n\nSimon Lewerenz and Syed Abrar Ahmed participated in the panel discussion ‘Designing Interdisciplinary Training\,’ chaired by Ermira Tartari and Conrad Attard\, during which they explored ways to teach interoperability in public health from the perspective of the EHDS.\n\n\n\n\n\n\n\n\nReactReply\nFull programme details\, practical information are available here:
URL:https://xia-project.iscte-iul.pt/event/10th-international-digital-public-health-conference-dph2025/
CATEGORIES:Congress
END:VEVENT
END:VCALENDAR