BEGIN:VCALENDAR
VERSION:2.0
PRODID:-//XiA - ECPv6.15.11//NONSGML v1.0//EN
CALSCALE:GREGORIAN
METHOD:PUBLISH
X-ORIGINAL-URL:https://xia-project.iscte-iul.pt
X-WR-CALDESC:Events for XiA
REFRESH-INTERVAL;VALUE=DURATION:PT1H
X-Robots-Tag:noindex
X-PUBLISHED-TTL:PT1H
BEGIN:VTIMEZONE
TZID:Europe/Rome
BEGIN:DAYLIGHT
TZOFFSETFROM:+0100
TZOFFSETTO:+0200
TZNAME:CEST
DTSTART:20250330T010000
END:DAYLIGHT
BEGIN:STANDARD
TZOFFSETFROM:+0200
TZOFFSETTO:+0100
TZNAME:CET
DTSTART:20251026T010000
END:STANDARD
BEGIN:DAYLIGHT
TZOFFSETFROM:+0100
TZOFFSETTO:+0200
TZNAME:CEST
DTSTART:20260329T010000
END:DAYLIGHT
BEGIN:STANDARD
TZOFFSETFROM:+0200
TZOFFSETTO:+0100
TZNAME:CET
DTSTART:20261025T010000
END:STANDARD
BEGIN:DAYLIGHT
TZOFFSETFROM:+0100
TZOFFSETTO:+0200
TZNAME:CEST
DTSTART:20270328T010000
END:DAYLIGHT
BEGIN:STANDARD
TZOFFSETFROM:+0200
TZOFFSETTO:+0100
TZNAME:CET
DTSTART:20271031T010000
END:STANDARD
END:VTIMEZONE
BEGIN:VTIMEZONE
TZID:Europe/Berlin
BEGIN:DAYLIGHT
TZOFFSETFROM:+0100
TZOFFSETTO:+0200
TZNAME:CEST
DTSTART:20250330T010000
END:DAYLIGHT
BEGIN:STANDARD
TZOFFSETFROM:+0200
TZOFFSETTO:+0100
TZNAME:CET
DTSTART:20251026T010000
END:STANDARD
BEGIN:DAYLIGHT
TZOFFSETFROM:+0100
TZOFFSETTO:+0200
TZNAME:CEST
DTSTART:20260329T010000
END:DAYLIGHT
BEGIN:STANDARD
TZOFFSETFROM:+0200
TZOFFSETTO:+0100
TZNAME:CET
DTSTART:20261025T010000
END:STANDARD
BEGIN:DAYLIGHT
TZOFFSETFROM:+0100
TZOFFSETTO:+0200
TZNAME:CEST
DTSTART:20270328T010000
END:DAYLIGHT
BEGIN:STANDARD
TZOFFSETFROM:+0200
TZOFFSETTO:+0100
TZNAME:CET
DTSTART:20271031T010000
END:STANDARD
END:VTIMEZONE
BEGIN:VTIMEZONE
TZID:Europe/Madrid
BEGIN:DAYLIGHT
TZOFFSETFROM:+0100
TZOFFSETTO:+0200
TZNAME:CEST
DTSTART:20250330T010000
END:DAYLIGHT
BEGIN:STANDARD
TZOFFSETFROM:+0200
TZOFFSETTO:+0100
TZNAME:CET
DTSTART:20251026T010000
END:STANDARD
BEGIN:DAYLIGHT
TZOFFSETFROM:+0100
TZOFFSETTO:+0200
TZNAME:CEST
DTSTART:20260329T010000
END:DAYLIGHT
BEGIN:STANDARD
TZOFFSETFROM:+0200
TZOFFSETTO:+0100
TZNAME:CET
DTSTART:20261025T010000
END:STANDARD
BEGIN:DAYLIGHT
TZOFFSETFROM:+0100
TZOFFSETTO:+0200
TZNAME:CEST
DTSTART:20270328T010000
END:DAYLIGHT
BEGIN:STANDARD
TZOFFSETFROM:+0200
TZOFFSETTO:+0100
TZNAME:CET
DTSTART:20271031T010000
END:STANDARD
END:VTIMEZONE
BEGIN:VEVENT
DTSTART;VALUE=DATE:20260525
DTEND;VALUE=DATE:20260529
DTSTAMP:20260425T150122
CREATED:20260217T162241Z
LAST-MODIFIED:20260218T092459Z
UID:2093-1779667200-1780012799@xia-project.iscte-iul.pt
SUMMARY:MIE 2026 – Medical Informatics Europe (Genoa)
DESCRIPTION:XiA (Xpanding Innovative Alliance) will participate in MIE 2026 – Medical Informatics Europe\, taking place from 25 to 28 May 2026 in Genoa\, Italy. \nMIE is one of Europe’s leading scientific conferences in medical informatics\, bringing together researchers\, healthcare professionals\, policymakers and digital health innovators to explore advances in health information systems\, data governance and interoperability. Organised under the umbrella of the European Federation for Medical Informatics (EFMI)\, the conference plays a key role in shaping Europe’s digital health research and policy landscape. \nAs discussions focus on data-driven healthcare\, interoperability standards and the implementation of the European Health Data Space (EHDS)\, XiA will contribute by promoting structured interoperability skills development and supporting the alignment of digital health competencies with evolving European frameworks. \nIn particular\, XiA will highlight the importance of: \n\nStrengthening digital and interoperability competencies across healthcare and research communities\nSupporting the practical implementation of European health data frameworks\, including EHDS\nBridging research\, standards and real-world digital health deployment\n\nXiA’s participation in MIE 2026 will contribute to reinforcing European dialogue on digital health transformation\, workforce readiness and sustainable interoperability implementation.
URL:https://xia-project.iscte-iul.pt/event/mie-2026-medical-informatics-europe-genoa/
LOCATION:Magazzini del Cotone – Porto Antico di Genova\, Calata Molo Vecchio 15\, Genoa\, 16128\, Italy
CATEGORIES:Congress
ATTACH;FMTTYPE=image/jpeg:https://xia-project.iscte-iul.pt/wp-content/uploads/2026/02/30a8f16c-5a61-49d7-b754-0a64dd0b54a8.jpg
END:VEVENT
BEGIN:VEVENT
DTSTART;VALUE=DATE:20261006
DTEND;VALUE=DATE:20261010
DTSTAMP:20260425T150122
CREATED:20260217T163749Z
LAST-MODIFIED:20260217T163749Z
UID:2103-1791244800-1791590399@xia-project.iscte-iul.pt
SUMMARY:LOINC Conference 2026
DESCRIPTION:XiA (Xpanding Innovative Alliance) will participate in the LOINC Conference 2026\, taking place from 6 to 9 October 2026 in Cologne\, Germany (in-person and online). \nThe LOINC Conference brings together international experts in health data standards\, clinical terminology and interoperability. As a global reference event for laboratory and clinical coding systems\, it plays a key role in advancing structured and semantic interoperability in healthcare. \nXiA will contribute to discussions on health data standardisation\, alignment with European digital health frameworks\, and the implementation of EHDS-related specifications. \nIn particular\, XiA will highlight the importance of: \n\nStrengthening interoperability competencies across healthcare and health IT professionals\nSupporting the adoption of standardised terminologies in clinical and laboratory systems\nBridging international health data standards with European regulatory frameworks\n\nXiA’s participation in LOINC 2026 will contribute to reinforcing dialogue on semantic interoperability and sustainable health data exchange across Europe.
URL:https://xia-project.iscte-iul.pt/event/loinc-conference-2026/
CATEGORIES:Congress
ATTACH;FMTTYPE=image/jpeg:https://xia-project.iscte-iul.pt/wp-content/uploads/2026/02/cologne-conf-slide.jpg
END:VEVENT
BEGIN:VEVENT
DTSTART;VALUE=DATE:20261215
DTEND;VALUE=DATE:20261216
DTSTAMP:20260425T150122
CREATED:20260217T171110Z
LAST-MODIFIED:20260217T171110Z
UID:2109-1797292800-1797379199@xia-project.iscte-iul.pt
SUMMARY:Jornada Científica de Medicina Digital 2026 (Date TBC)
DESCRIPTION:XiA plans to participate in the Jornada Científica de Medicina Digital 2026 in Spain. Dates and venue will be confirmed following the official announcement by the organisers.
URL:https://xia-project.iscte-iul.pt/event/jornada-cientifica-de-medicina-digital-2026-date-tbc/
LOCATION:Spain (Venue TBC)
CATEGORIES:Congress
END:VEVENT
END:VCALENDAR