BEGIN:VCALENDAR
VERSION:2.0
PRODID:-//XiA - ECPv6.15.11//NONSGML v1.0//EN
CALSCALE:GREGORIAN
METHOD:PUBLISH
X-WR-CALNAME:XiA
X-ORIGINAL-URL:https://xia-project.iscte-iul.pt
X-WR-CALDESC:Events for XiA
REFRESH-INTERVAL;VALUE=DURATION:PT1H
X-Robots-Tag:noindex
X-PUBLISHED-TTL:PT1H
BEGIN:VTIMEZONE
TZID:Europe/Paris
BEGIN:DAYLIGHT
TZOFFSETFROM:+0100
TZOFFSETTO:+0200
TZNAME:CEST
DTSTART:20250330T010000
END:DAYLIGHT
BEGIN:STANDARD
TZOFFSETFROM:+0200
TZOFFSETTO:+0100
TZNAME:CET
DTSTART:20251026T010000
END:STANDARD
BEGIN:DAYLIGHT
TZOFFSETFROM:+0100
TZOFFSETTO:+0200
TZNAME:CEST
DTSTART:20260329T010000
END:DAYLIGHT
BEGIN:STANDARD
TZOFFSETFROM:+0200
TZOFFSETTO:+0100
TZNAME:CET
DTSTART:20261025T010000
END:STANDARD
BEGIN:DAYLIGHT
TZOFFSETFROM:+0100
TZOFFSETTO:+0200
TZNAME:CEST
DTSTART:20270328T010000
END:DAYLIGHT
BEGIN:STANDARD
TZOFFSETFROM:+0200
TZOFFSETTO:+0100
TZNAME:CET
DTSTART:20271031T010000
END:STANDARD
END:VTIMEZONE
BEGIN:VEVENT
DTSTART;TZID=Europe/Paris:20260505T140000
DTEND;TZID=Europe/Paris:20260505T150000
DTSTAMP:20260424T232745
CREATED:20260420T090423Z
LAST-MODIFIED:20260424T110929Z
UID:2400-1777989600-1777993200@xia-project.iscte-iul.pt
SUMMARY:Open Learning Session #2 – Clinical Practice
DESCRIPTION:👉 Register for the session here \n  \nJoin us on 5 May 2026 for this Open Learning Session focused on clinical practice and digital health. \nKey takeaways\n\n\n\n\n\n\n\nThis session explores how open learning approaches can support the integration of digital tools and interoperable data in clinical practice across Europe. \n\nThe importance of equipping healthcare professionals with digital and interoperability skills\nChallenges in integrating EHDS-related tools into daily clinical workflows\nThe role of open learning in bridging gaps between innovation and real-world practice\nOpportunities to strengthen collaboration between healthcare\, academia\, and digital health actors\n\nOpen learning is a key enabler for ensuring that healthcare professionals can effectively adopt and use interoperable solutions within the European Health Data Space (EHDS). \nAbout this session\nThis Open Learning Session brings together European experts to discuss how clinical practice is evolving in the context of digital transformation and the EHDS. \nSpeakers share practical insights\, real-world experiences\, and emerging approaches to support the adoption of interoperable systems in healthcare settings. The session highlights how training and capacity-building initiatives can empower professionals to navigate increasingly complex digital environments. \nBy connecting policy\, innovation\, and practice\, this session contributes to XiA’s mission to develop skills and knowledge frameworks for the future of European healthcare. \nNext session in the series\n➡️ Open Learning Session #3 – LOINC and Laboratory Interoperability \nThis upcoming session will explore the role of LOINC in enabling semantic interoperability and supporting EHDS-aligned laboratory data exchange.
URL:https://xia-project.iscte-iul.pt/event/open-learning-session-2-clinical-practice/
LOCATION:Online webinar
CATEGORIES:Webinar
ATTACH;FMTTYPE=image/png:https://xia-project.iscte-iul.pt/wp-content/uploads/2026/04/xia-ols-2-scaled.png
END:VEVENT
BEGIN:VEVENT
DTSTART;TZID=Europe/Paris:20260529T150000
DTEND;TZID=Europe/Paris:20260529T153000
DTSTAMP:20260424T232745
CREATED:20260218T211756Z
LAST-MODIFIED:20260225T135536Z
UID:2177-1780066800-1780068600@xia-project.iscte-iul.pt
SUMMARY:Hospitals on FHIR – Implementing the EU Lab Report in Your Hospital: Implementation Guides
DESCRIPTION:This fourth session of the Hospitals on FHIR webinar series focuses on Implementation Guides and their role in translating interoperability standards into practical deployment in hospital environments. \nAs hospitals move from strategic alignment with the EU Lab Report and EHDS requirements to concrete technical implementation\, Implementation Guides become essential tools. They provide structured specifications\, usage constraints and real-world guidance to ensure consistent and interoperable data exchange. \nDelivered by Giorgio Cangioli (HL7 Europe)\, this 30-minute session will explore how Implementation Guides support laboratory interoperability\, facilitate HL7 FHIR adoption and help hospitals operationalise European digital health requirements. \nBuilding on the previous sessions covering data domains\, terminology and FHIR foundations\, this webinar consolidates the implementation pathway and offers practical insights for healthcare organisations and IT teams working towards EHDS readiness. \n🔹 Speaker:\nGiorgio Cangioli (HL7 Europe) – Senior interoperability consultant\, Technical Lead and Board Member of HL7 Europe.Giorgio is also a member of the HL7 International Board\, the Technical Steering Committee (TSC) and the Architecture & Engineering Committee (AEC)\, Vice-Chair of the HL7 Italy Board\, and co-chair of the FHIR Architecture Management working group. He supports European initiatives in the development and governance of HL7 FHIR standards. \n🔹 Key points:\n\nUnderstanding what FHIR Implementation Guides are and why they are essential\nThe structure and components of an Implementation Guide\nHow Implementation Guides ensure consistency and interoperability across systems\nThe role of Implementation Guides within the European interoperability landscape and the EHDS\n\n🔹 Target audience:\nHealthcare professionals\, hospital IT teams\, developers\, digital health solution providers and interoperability stakeholders seeking to better understand how FHIR Implementation Guides support consistent and scalable interoperability within the European Health Data Space. \n\n📅 Date: 29 May 2026⏰ Time: 15:00–15:30 CET 🌍 Format: Online🔗 Registration link coming soon
URL:https://xia-project.iscte-iul.pt/event/hospitals-on-fhir-implementing-the-eu-lab-report-in-your-hospital-implementation-guides/
CATEGORIES:Webinar
ATTACH;FMTTYPE=image/png:https://xia-project.iscte-iul.pt/wp-content/uploads/2026/02/XiA-–-HOF-Webinar-–-MASTER-169.png
END:VEVENT
END:VCALENDAR