BEGIN:VCALENDAR
VERSION:2.0
PRODID:-//XiA - ECPv6.15.11//NONSGML v1.0//EN
CALSCALE:GREGORIAN
METHOD:PUBLISH
X-ORIGINAL-URL:https://xia-project.iscte-iul.pt
X-WR-CALDESC:Events for XiA
REFRESH-INTERVAL;VALUE=DURATION:PT1H
X-Robots-Tag:noindex
X-PUBLISHED-TTL:PT1H
BEGIN:VTIMEZONE
TZID:Europe/Paris
BEGIN:DAYLIGHT
TZOFFSETFROM:+0100
TZOFFSETTO:+0200
TZNAME:CEST
DTSTART:20250330T010000
END:DAYLIGHT
BEGIN:STANDARD
TZOFFSETFROM:+0200
TZOFFSETTO:+0100
TZNAME:CET
DTSTART:20251026T010000
END:STANDARD
BEGIN:DAYLIGHT
TZOFFSETFROM:+0100
TZOFFSETTO:+0200
TZNAME:CEST
DTSTART:20260329T010000
END:DAYLIGHT
BEGIN:STANDARD
TZOFFSETFROM:+0200
TZOFFSETTO:+0100
TZNAME:CET
DTSTART:20261025T010000
END:STANDARD
BEGIN:DAYLIGHT
TZOFFSETFROM:+0100
TZOFFSETTO:+0200
TZNAME:CEST
DTSTART:20270328T010000
END:DAYLIGHT
BEGIN:STANDARD
TZOFFSETFROM:+0200
TZOFFSETTO:+0100
TZNAME:CET
DTSTART:20271031T010000
END:STANDARD
END:VTIMEZONE
BEGIN:VTIMEZONE
TZID:Europe/London
BEGIN:DAYLIGHT
TZOFFSETFROM:+0000
TZOFFSETTO:+0100
TZNAME:BST
DTSTART:20240331T010000
END:DAYLIGHT
BEGIN:STANDARD
TZOFFSETFROM:+0100
TZOFFSETTO:+0000
TZNAME:GMT
DTSTART:20241027T010000
END:STANDARD
BEGIN:DAYLIGHT
TZOFFSETFROM:+0000
TZOFFSETTO:+0100
TZNAME:BST
DTSTART:20250330T010000
END:DAYLIGHT
BEGIN:STANDARD
TZOFFSETFROM:+0100
TZOFFSETTO:+0000
TZNAME:GMT
DTSTART:20251026T010000
END:STANDARD
BEGIN:DAYLIGHT
TZOFFSETFROM:+0000
TZOFFSETTO:+0100
TZNAME:BST
DTSTART:20260329T010000
END:DAYLIGHT
BEGIN:STANDARD
TZOFFSETFROM:+0100
TZOFFSETTO:+0000
TZNAME:GMT
DTSTART:20261025T010000
END:STANDARD
END:VTIMEZONE
BEGIN:VEVENT
DTSTART;TZID=Europe/Paris:20260326T150000
DTEND;TZID=Europe/Paris:20260326T153000
DTSTAMP:20260424T212345
CREATED:20260218T142430Z
LAST-MODIFIED:20260218T160819Z
UID:2161-1774537200-1774539000@xia-project.iscte-iul.pt
SUMMARY:Hospitals on FHIR – Implementing the EU Lab Report in Your Hospital: Medical Terminology
DESCRIPTION:This second session of the Hospitals on FHIR webinar series focuses on medical terminologies and the foundations of semantic interoperability in the implementation of the EU Lab Report. \nBuilding on the regulatory and conceptual elements introduced in the first webinar\, this session explores the semantic layer that makes health data categories truly usable in practice. Participants will gain an overview of key international medical terminologies — including SNOMED CT\, LOINC\, ICD and UCUM — and understand how they structure\, standardise and give meaning to clinical and laboratory data. \nThe webinar will also explain why terminologies are a prerequisite for interoperability\, data reuse and cross-border data exchange\, and how they are applied in modern standards such as HL7 FHIR. \nSpeaker: \nRoberta Gazzarata\, Ph.D. (HL7 Europe) – Expert in health data interoperability and medical terminology\, actively involved in European and international standardisation initiatives\, with a strong focus on semantic interoperability and terminology alignment in EHDS-related contexts. \nKey takeaways: \n\nOverview of SNOMED CT\, LOINC\, ICD and UCUM\nHow terminologies structure clinical and laboratory data\nThe role of terminology in HL7 FHIR implementations\nPractical implications for hospitals and health IT vendors\n\nTarget audience: \nHealthcare professionals\, hospitals\, laboratories\, health IT vendors\, interoperability architects and digital health stakeholders involved in standards-based data exchange. \n📅 Date: 26 March 2026\n⏰ Time: 15:00–15:30 CET\n🌍 Format: Online\n🔗 Register: Official registration page.
URL:https://xia-project.iscte-iul.pt/event/hospitals-on-fhir-implementing-the-eu-lab-report-in-your-hospital-medical-terminology/
CATEGORIES:Webinar
ATTACH;FMTTYPE=image/png:https://xia-project.iscte-iul.pt/wp-content/uploads/2026/02/xia-hof-webinar-2-medical-terminology-2026.png
END:VEVENT
BEGIN:VEVENT
DTSTART;TZID=Europe/Paris:20260226T150000
DTEND;TZID=Europe/Paris:20260226T153000
DTSTAMP:20260424T212345
CREATED:20260130T074958Z
LAST-MODIFIED:20260218T160317Z
UID:1967-1772118000-1772119800@xia-project.iscte-iul.pt
SUMMARY:Hospitals on FHIR - Implementing the EU Lab Report at your Hospital: EHDS & Data Domains
DESCRIPTION:This free opening Hospitals on FHIR webinar introduces the European Health Data Space (EHDS)\, in partnership with HL7 Europe and the XiA project (to know more about this webinar series)\, \nIt provides a clear overview of EHDS health data categories\, explaining which types of health data are in focus\, how they are structured at EU level and what this means in practice for healthcare organisations and IT providers. \nThe session lays the foundation for the 2026 webinar series by clarifying how EHDS data domains translate into concrete interoperability requirements. \nSpeaker:\nSimon Lewerenz (ISCTE) – Researcher in digital health and interoperability. Simon has been involved in several EHDS-related European projects during his PhD\, working under the coordination of Henrique Martins\, with a focus on European health data governance and interoperability frameworks. \nKey takeaways: \n\nWhat the EHDS is and what it aims to achieve\nOverview of EHDS health data categories\nWhich data are concerned and why they matter\nHow EHDS data categories shape future interoperability work\n\nTarget audience:\nHealthcare professionals\, hospitals\, health IT vendors\, policymakers\, and digital health interoperability stakeholders. \n📅 Date: 26 February 2026⏰ Time: 15:00–15:30 CET🌍 Format: Online🔗 Register: Official registration page.
URL:https://xia-project.iscte-iul.pt/event/hospitals-on-fhir-implementing-the-eu-lab-report-at-your-hospital-ehds-data-domains/
CATEGORIES:Webinar
ATTACH;FMTTYPE=image/png:https://xia-project.iscte-iul.pt/wp-content/uploads/2026/01/XiA-HOF-Implement-the-EU-Lab-Report-Session-1-16_9-1-Modifie.png
END:VEVENT
BEGIN:VEVENT
DTSTART;TZID=Europe/Paris:20260122T150000
DTEND;TZID=Europe/Paris:20260122T160000
DTSTAMP:20260424T212345
CREATED:20251118T104850Z
LAST-MODIFIED:20260304T131527Z
UID:1874-1769094000-1769097600@xia-project.iscte-iul.pt
SUMMARY:XiA Open Learning Session #1 – Cybersecurity & Interoperability in the EHDS
DESCRIPTION:🎥 Watch the replay\nThe recording of XiA Open Learning Session #1 is now available. \n➡ This session has taken place — Watch the replay  \nKey takeaways\nThis session highlights how EHDS-driven interoperability can increase exposure to cybersecurity risks\, and why privacy-preserving and secure-by-design approaches are essential. \n\nGrowing cybersecurity risks linked to EHDS interoperability\nPrivacy-preserving mechanisms (CYLCOMED & SECURE EU)\nAI-related security vulnerabilities and governance challenges\n\nCybersecurity\, privacy and AI security are now central to Europe’s digital health transformation. As XiA develops training pathways to prepare the workforce for the European Health Data Space (EHDS)\, these topics are fully integrated into the project’s vision. \n\n\n\nAbout this session\nThis Open Learning Session brought together leading European experts to discuss key challenges and emerging approaches shaping the future of secure health data exchange in the EHDS\, including: \n\nJuan Carlos Perez Baun (Eviden – Atos Group) : Insights from CYLCOMED and SECURED EU project on privacy-preserving health data sharing and secure data exchange.\nEvangelos Markatos (University of Crete / FORTH): Major cybersecurity challenges observed through the xShare project.\nDr. Kassem Kallas (Inserm): Advances and risks in Artificial Intelligence Security.\n\nThis session provides both a strategic perspective and practical considerations to strengthen resilience in interoperable digital health ecosystems. \nNext session in the series\n➡ Open Learning Session #2 – LOINC and Laboratory Interoperability \nExploring the role of LOINC in advancing semantic interoperability and supporting EHDS-aligned laboratory data exchange. \n 
URL:https://xia-project.iscte-iul.pt/event/open-learning-session-1-cybersecurity/
CATEGORIES:Webinar
ATTACH;FMTTYPE=image/jpeg:https://xia-project.iscte-iul.pt/wp-content/uploads/2025/11/Open-Learning-Sessions-1.jpg
END:VEVENT
BEGIN:VEVENT
DTSTART;TZID=Europe/London:20251205T110000
DTEND;TZID=Europe/London:20251205T170000
DTSTAMP:20260424T212345
CREATED:20251119T095251Z
LAST-MODIFIED:20251124T133613Z
UID:1881-1764932400-1764954000@xia-project.iscte-iul.pt
SUMMARY:EHR Systems and AI\, an Xt-EHR on-line workshop
DESCRIPTION:Xt-EHR is inviting participants to an on-line workshop aims to explore how EHR systems users can best benefit from AI-supported monitoring and decision support systems.\nThe use of the EHRxF foreseen in the EHDS is present in the background of this webinar. In this context\, we are aiming at capturing the real requirements for meaningful interactions between EHR and AI solutions. \nAI solutions can be considered both as a data consumer and a data provider (transformer) of EHR systems – in the latter case\, especially when dealing with unstructured data. AI is therefore not just an endpoint; it is also becoming a key enabler of the FAIRification process. The focus of this workshop will however be AI as an EHR data consumer. \nFor this workshop\, Xt-EHR is inviting all current EHRxF-related projects currently working on and with XIA. \n  \nMore information here
URL:https://xia-project.iscte-iul.pt/event/ehr-systems-and-ai-an-xt-ehr-on-line-workshop/
CATEGORIES:Webinar
END:VEVENT
BEGIN:VEVENT
DTSTART;TZID=Europe/London:20251104T100000
DTEND;TZID=Europe/London:20251104T120000
DTSTAMP:20260424T212345
CREATED:20251118T093242Z
LAST-MODIFIED:20251118T093242Z
UID:1863-1762250400-1762257600@xia-project.iscte-iul.pt
SUMMARY:Webinaire EHDS Biotech Santé Bretagne
DESCRIPTION:Whether you work in a hospital\, are a healthcare professional\, or an e-health stakeholder\, this Biotech Santé Bretagne webinar dedicated to the European Health Data Space (#EHDS) will give you the keys to anticipate and understand this European regulation — complementary to the GDPR — which is scheduled to be fully implemented in March 2029.
URL:https://xia-project.iscte-iul.pt/event/webinaire-ehds-biotech-sante-bretagne/
CATEGORIES:Webinar
END:VEVENT
BEGIN:VEVENT
DTSTART;TZID=Europe/London:20250715T150000
DTEND;TZID=Europe/London:20250715T160000
DTSTAMP:20260424T212345
CREATED:20250908T115201Z
LAST-MODIFIED:20250908T115201Z
UID:1752-1752591600-1752595200@xia-project.iscte-iul.pt
SUMMARY:XiA Internal Learning Session #2 : e-Hospital4Future
DESCRIPTION:XiA Internal Learning Session #2 will present the european project e-Hospital4Future.  \nThis 2\,5-year European initiative that developed training modules for healthcare staff\, focused on continuously updating medical knowledge\, building digital and emotional resilience skills\, especially for crisis situations. e-Hospital4Future supported the digitaltransformation of healthcare and the deployment of innovative tools. Its objective was to strengthen the technicalskills and interpersonalskills of healthcareprofessionals across Europe.
URL:https://xia-project.iscte-iul.pt/event/xia-internal-learning-session-2-e-hospital4future/
CATEGORIES:Webinar
END:VEVENT
BEGIN:VEVENT
DTSTART;TZID=Europe/London:20250325T110000
DTEND;TZID=Europe/London:20250325T120000
DTSTAMP:20260424T212345
CREATED:20250909T073250Z
LAST-MODIFIED:20250909T073915Z
UID:1759-1742900400-1742904000@xia-project.iscte-iul.pt
SUMMARY:XiA internal learning session #1
DESCRIPTION:We successfully launched the XiA Internal learning session\, an initiative designed to foster internal learning and knowledge exchange between XiA partners and members. \nOur first session\, “Lessons learned from the project to improve the Digital Skills of healthcare staff in Spain and Estonia”\, brought together valuable insights from NTT DATA Europe & Latam and TalTech – Tallinn University of Technology. We explored the methodology applied during the project and discussed how its main achievements could inspire XiA in analysing the current state of digital competence education\, mapping competence needs for healthcare and IT personnel\, and developing a strategy for the successful implementation of training programs in close cooperation with stakeholders. Additionally\, lessons learned from material creation and pilot trainings with healthcare personnel can provide valuable input.
URL:https://xia-project.iscte-iul.pt/event/xia-internal-learning-session-1/
CATEGORIES:Webinar
END:VEVENT
END:VCALENDAR