BEGIN:VCALENDAR
VERSION:2.0
PRODID:-//XiA - ECPv6.15.11//NONSGML v1.0//EN
CALSCALE:GREGORIAN
METHOD:PUBLISH
X-ORIGINAL-URL:https://xia-project.iscte-iul.pt
X-WR-CALDESC:Events for XiA
REFRESH-INTERVAL;VALUE=DURATION:PT1H
X-Robots-Tag:noindex
X-PUBLISHED-TTL:PT1H
BEGIN:VTIMEZONE
TZID:Europe/Paris
BEGIN:DAYLIGHT
TZOFFSETFROM:+0100
TZOFFSETTO:+0200
TZNAME:CEST
DTSTART:20250330T010000
END:DAYLIGHT
BEGIN:STANDARD
TZOFFSETFROM:+0200
TZOFFSETTO:+0100
TZNAME:CET
DTSTART:20251026T010000
END:STANDARD
BEGIN:DAYLIGHT
TZOFFSETFROM:+0100
TZOFFSETTO:+0200
TZNAME:CEST
DTSTART:20260329T010000
END:DAYLIGHT
BEGIN:STANDARD
TZOFFSETFROM:+0200
TZOFFSETTO:+0100
TZNAME:CET
DTSTART:20261025T010000
END:STANDARD
BEGIN:DAYLIGHT
TZOFFSETFROM:+0100
TZOFFSETTO:+0200
TZNAME:CEST
DTSTART:20270328T010000
END:DAYLIGHT
BEGIN:STANDARD
TZOFFSETFROM:+0200
TZOFFSETTO:+0100
TZNAME:CET
DTSTART:20271031T010000
END:STANDARD
END:VTIMEZONE
BEGIN:VEVENT
DTSTART;TZID=Europe/Paris:20260924T150000
DTEND;TZID=Europe/Paris:20260924T153000
DTSTAMP:20260425T150140
CREATED:20260218T215726Z
LAST-MODIFIED:20260218T221514Z
UID:2188-1790262000-1790263800@xia-project.iscte-iul.pt
SUMMARY:Hospitals on FHIR – Implementing the EU Lab Report in Your Hospital: HL7v2 Format
DESCRIPTION:This eighth session of the Hospitals on FHIR webinar series focuses on the HL7v2 format and its role in laboratory data exchange within interoperable healthcare environments. \nWhile newer standards such as HL7 FHIR are increasingly adopted\, HL7v2 remains widely implemented across hospital systems. Understanding its structure\, messaging logic and practical applications is essential to ensure continuity\, compatibility and progressive alignment with EU Lab Report and EHDS requirements. \nThis 30-minute session explores how HL7v2 supports laboratory workflows\, how it interacts with FHIR-based architectures\, and what considerations hospitals should take into account when aligning legacy systems with evolving interoperability frameworks. \nBuilding on previous sessions covering logical models\, implementation guides and FHIR mapping\, this webinar examines how established standards integrate into the broader European interoperability landscape. \n📅 Provisional date:  24 September 2026⏰ Time: 15:00–15:30 CET🌍 Format: Online🔗 Registration link coming soon \nThe date and agenda may be subject to change.
URL:https://xia-project.iscte-iul.pt/event/hospitals-on-fhir-implementing-the-eu-lab-report-in-your-hospital-hl7v2-format/
CATEGORIES:Webinar
ATTACH;FMTTYPE=image/png:https://xia-project.iscte-iul.pt/wp-content/uploads/2026/02/xia-hof-implement-eu-lab-report-webinar-series-2026.png
END:VEVENT
BEGIN:VEVENT
DTSTART;TZID=Europe/Paris:20261029T150000
DTEND;TZID=Europe/Paris:20261029T153000
DTSTAMP:20260425T150140
CREATED:20260218T220119Z
LAST-MODIFIED:20260218T221435Z
UID:2190-1793286000-1793287800@xia-project.iscte-iul.pt
SUMMARY:Hospitals on FHIR – Implementing the EU Lab Report in Your Hospital: HL7v2 Mapping
DESCRIPTION:This ninth session of the Hospitals on FHIR webinar series focuses on HL7v2 mapping and its role in ensuring structured laboratory data exchange aligned with EU Lab Report and EHDS interoperability requirements. \nWhile HL7v2 remains widely used across hospital systems\, mapping laboratory data consistently and accurately is essential to guarantee semantic integrity and cross-system compatibility. Effective HL7v2 mapping supports continuity between legacy messaging infrastructures and evolving interoperability frameworks. \nThis 30-minute session explores practical approaches to designing\, validating and maintaining HL7v2 mappings for laboratory workflows\, highlighting common implementation challenges and alignment considerations within hospital environments. \nBuilding on previous sessions covering FHIR mapping and HL7v2 format\, this webinar completes the interoperability journey by addressing mapping strategies across both modern and legacy standards. \n📅 Provisional date: 29 October 2026⏰ Time: 15:00–15:30 CET🌍 Format: Online🔗 Registration link coming soon \nThe date and agenda may be subject to change.
URL:https://xia-project.iscte-iul.pt/event/hospitals-on-fhir-implementing-the-eu-lab-report-in-your-hospital-hl7v2-mapping/
CATEGORIES:Webinar
ATTACH;FMTTYPE=image/png:https://xia-project.iscte-iul.pt/wp-content/uploads/2026/02/xia-hof-implement-eu-lab-report-webinar-series-2026.png
END:VEVENT
BEGIN:VEVENT
DTSTART;TZID=Europe/Paris:20261126T150000
DTEND;TZID=Europe/Paris:20261126T153000
DTSTAMP:20260425T150140
CREATED:20260218T220515Z
LAST-MODIFIED:20260218T221358Z
UID:2192-1795705200-1795707000@xia-project.iscte-iul.pt
SUMMARY:Hospitals on FHIR – Implementing the EU Lab Report in Your Hospital: Hospital and Vendor Experience
DESCRIPTION:This tenth session of the Hospitals on FHIR webinar series focuses on hospital and vendor experience in implementing EU Lab Report requirements within real-world healthcare environments. \nAs interoperability frameworks move from specification to operational deployment\, collaboration between hospitals and technology providers becomes essential. Practical implementation often involves addressing technical constraints\, workflow adaptations and cross-system coordination. \nThis 30-minute session explores real-world perspectives\, lessons learned and implementation insights from both hospital and vendor environments\, highlighting key success factors and common challenges in achieving EHDS-aligned laboratory interoperability. \nConcluding the series\, this webinar brings together the regulatory\, semantic and technical dimensions covered in previous sessions and reflects on practical pathways towards sustainable interoperability. \n📅 Provisional date: 26 November 2026⏰ Time: 15:00–15:30 CET🌍 Format: Online🔗 Registration link coming soon \nThe date and agenda may be subject to change.
URL:https://xia-project.iscte-iul.pt/event/hospitals-on-fhir-implementing-the-eu-lab-report-in-your-hospital-hospital-and-vendor-experience/
CATEGORIES:Webinar
ATTACH;FMTTYPE=image/png:https://xia-project.iscte-iul.pt/wp-content/uploads/2026/02/xia-hof-implement-eu-lab-report-webinar-series-2026.png
END:VEVENT
BEGIN:VEVENT
DTSTART;TZID=Europe/Paris:20261217T150000
DTEND;TZID=Europe/Paris:20261217T153000
DTSTAMP:20260425T150140
CREATED:20260218T221007Z
LAST-MODIFIED:20260218T221303Z
UID:2194-1797519600-1797521400@xia-project.iscte-iul.pt
SUMMARY:Hospitals on FHIR – Implementing the EU Lab Report in Your Hospital: Conclusion & Next Year Perspectives
DESCRIPTION:This eleventh and concluding session of the Hospitals on FHIR webinar series brings together the key insights from the EU Lab Report learning pathway and looks ahead to the next steps in laboratory interoperability. \nThroughout the series\, participants explored EHDS data domains\, medical terminologies\, HL7 FHIR foundations\, implementation guides\, logical models and mapping approaches. This final session synthesises the main lessons learned and highlights practical takeaways for hospitals and IT teams progressing towards structured\, interoperable laboratory data exchange. \nThe webinar also introduces the strategic priorities and thematic focus for the coming year\, outlining how the interoperability journey will continue beyond the EU Lab Report framework. \n Provisional date: 17 December 2026 Time: 15:00–15:30 CET Format: Online Registration link coming soon \nThe date and agenda may be subject to change.
URL:https://xia-project.iscte-iul.pt/event/hospitals-on-fhir-implementing-the-eu-lab-report-in-your-hospital-conclusion-next-year-perspectives/
CATEGORIES:Webinar
ATTACH;FMTTYPE=image/png:https://xia-project.iscte-iul.pt/wp-content/uploads/2026/02/xia-hof-implement-eu-lab-report-webinar-series-2026.png
END:VEVENT
END:VCALENDAR