BEGIN:VCALENDAR
VERSION:2.0
PRODID:-//XiA - ECPv6.15.11//NONSGML v1.0//EN
CALSCALE:GREGORIAN
METHOD:PUBLISH
X-WR-CALNAME:XiA
X-ORIGINAL-URL:https://xia-project.iscte-iul.pt
X-WR-CALDESC:Events for XiA
REFRESH-INTERVAL;VALUE=DURATION:PT1H
X-Robots-Tag:noindex
X-PUBLISHED-TTL:PT1H
BEGIN:VTIMEZONE
TZID:Europe/Madrid
BEGIN:DAYLIGHT
TZOFFSETFROM:+0100
TZOFFSETTO:+0200
TZNAME:CEST
DTSTART:20250330T010000
END:DAYLIGHT
BEGIN:STANDARD
TZOFFSETFROM:+0200
TZOFFSETTO:+0100
TZNAME:CET
DTSTART:20251026T010000
END:STANDARD
BEGIN:DAYLIGHT
TZOFFSETFROM:+0100
TZOFFSETTO:+0200
TZNAME:CEST
DTSTART:20260329T010000
END:DAYLIGHT
BEGIN:STANDARD
TZOFFSETFROM:+0200
TZOFFSETTO:+0100
TZNAME:CET
DTSTART:20261025T010000
END:STANDARD
BEGIN:DAYLIGHT
TZOFFSETFROM:+0100
TZOFFSETTO:+0200
TZNAME:CEST
DTSTART:20270328T010000
END:DAYLIGHT
BEGIN:STANDARD
TZOFFSETFROM:+0200
TZOFFSETTO:+0100
TZNAME:CET
DTSTART:20271031T010000
END:STANDARD
END:VTIMEZONE
BEGIN:VTIMEZONE
TZID:Europe/Paris
BEGIN:DAYLIGHT
TZOFFSETFROM:+0100
TZOFFSETTO:+0200
TZNAME:CEST
DTSTART:20250330T010000
END:DAYLIGHT
BEGIN:STANDARD
TZOFFSETFROM:+0200
TZOFFSETTO:+0100
TZNAME:CET
DTSTART:20251026T010000
END:STANDARD
BEGIN:DAYLIGHT
TZOFFSETFROM:+0100
TZOFFSETTO:+0200
TZNAME:CEST
DTSTART:20260329T010000
END:DAYLIGHT
BEGIN:STANDARD
TZOFFSETFROM:+0200
TZOFFSETTO:+0100
TZNAME:CET
DTSTART:20261025T010000
END:STANDARD
BEGIN:DAYLIGHT
TZOFFSETFROM:+0100
TZOFFSETTO:+0200
TZNAME:CEST
DTSTART:20270328T010000
END:DAYLIGHT
BEGIN:STANDARD
TZOFFSETFROM:+0200
TZOFFSETTO:+0100
TZNAME:CET
DTSTART:20271031T010000
END:STANDARD
END:VTIMEZONE
BEGIN:VEVENT
DTSTART;VALUE=DATE:20261215
DTEND;VALUE=DATE:20261216
DTSTAMP:20260425T164544
CREATED:20260217T171110Z
LAST-MODIFIED:20260217T171110Z
UID:2109-1797292800-1797379199@xia-project.iscte-iul.pt
SUMMARY:Jornada Científica de Medicina Digital 2026 (Date TBC)
DESCRIPTION:XiA plans to participate in the Jornada Científica de Medicina Digital 2026 in Spain. Dates and venue will be confirmed following the official announcement by the organisers.
URL:https://xia-project.iscte-iul.pt/event/jornada-cientifica-de-medicina-digital-2026-date-tbc/
LOCATION:Spain (Venue TBC)
CATEGORIES:Congress
END:VEVENT
BEGIN:VEVENT
DTSTART;TZID=Europe/Paris:20261217T150000
DTEND;TZID=Europe/Paris:20261217T153000
DTSTAMP:20260425T164544
CREATED:20260218T221007Z
LAST-MODIFIED:20260218T221303Z
UID:2194-1797519600-1797521400@xia-project.iscte-iul.pt
SUMMARY:Hospitals on FHIR – Implementing the EU Lab Report in Your Hospital: Conclusion & Next Year Perspectives
DESCRIPTION:This eleventh and concluding session of the Hospitals on FHIR webinar series brings together the key insights from the EU Lab Report learning pathway and looks ahead to the next steps in laboratory interoperability. \nThroughout the series\, participants explored EHDS data domains\, medical terminologies\, HL7 FHIR foundations\, implementation guides\, logical models and mapping approaches. This final session synthesises the main lessons learned and highlights practical takeaways for hospitals and IT teams progressing towards structured\, interoperable laboratory data exchange. \nThe webinar also introduces the strategic priorities and thematic focus for the coming year\, outlining how the interoperability journey will continue beyond the EU Lab Report framework. \n Provisional date: 17 December 2026 Time: 15:00–15:30 CET Format: Online Registration link coming soon \nThe date and agenda may be subject to change.
URL:https://xia-project.iscte-iul.pt/event/hospitals-on-fhir-implementing-the-eu-lab-report-in-your-hospital-conclusion-next-year-perspectives/
CATEGORIES:Webinar
ATTACH;FMTTYPE=image/png:https://xia-project.iscte-iul.pt/wp-content/uploads/2026/02/xia-hof-implement-eu-lab-report-webinar-series-2026.png
END:VEVENT
END:VCALENDAR