BEGIN:VCALENDAR
VERSION:2.0
PRODID:-//XiA - ECPv6.15.11//NONSGML v1.0//EN
CALSCALE:GREGORIAN
METHOD:PUBLISH
X-WR-CALNAME:XiA
X-ORIGINAL-URL:https://xia-project.iscte-iul.pt
X-WR-CALDESC:Events for XiA
REFRESH-INTERVAL;VALUE=DURATION:PT1H
X-Robots-Tag:noindex
X-PUBLISHED-TTL:PT1H
BEGIN:VTIMEZONE
TZID:Europe/London
BEGIN:DAYLIGHT
TZOFFSETFROM:+0000
TZOFFSETTO:+0100
TZNAME:BST
DTSTART:20240331T010000
END:DAYLIGHT
BEGIN:STANDARD
TZOFFSETFROM:+0100
TZOFFSETTO:+0000
TZNAME:GMT
DTSTART:20241027T010000
END:STANDARD
BEGIN:DAYLIGHT
TZOFFSETFROM:+0000
TZOFFSETTO:+0100
TZNAME:BST
DTSTART:20250330T010000
END:DAYLIGHT
BEGIN:STANDARD
TZOFFSETFROM:+0100
TZOFFSETTO:+0000
TZNAME:GMT
DTSTART:20251026T010000
END:STANDARD
BEGIN:DAYLIGHT
TZOFFSETFROM:+0000
TZOFFSETTO:+0100
TZNAME:BST
DTSTART:20260329T010000
END:DAYLIGHT
BEGIN:STANDARD
TZOFFSETFROM:+0100
TZOFFSETTO:+0000
TZNAME:GMT
DTSTART:20261025T010000
END:STANDARD
END:VTIMEZONE
BEGIN:VEVENT
DTSTART;TZID=Europe/London:20250128T140000
DTEND;TZID=Europe/London:20250128T153000
DTSTAMP:20260425T160817
CREATED:20250908T143423Z
LAST-MODIFIED:20250908T143423Z
UID:1755-1738072800-1738078200@xia-project.iscte-iul.pt
SUMMARY:Athens Digital Health Week
DESCRIPTION:Join the XiA Project at Athens Digital Health Week 2025 to explore the transformative vision of a “European University for Digital Health Interoperability.”\nThis workshop will discuss strategies for developing an educational network aimed at equipping professionals and stakeholders with the skills to navigate the evolving digital health landscape. Through interactive sessions\, expert talks\, and stakeholder discussions\, participants will gain insights into fostering collaboration and capacity building in digital health education.
URL:https://xia-project.iscte-iul.pt/event/athens-digital-health-week/
CATEGORIES:Congress
END:VEVENT
END:VCALENDAR