BEGIN:VCALENDAR
VERSION:2.0
PRODID:-//XiA - ECPv6.15.11//NONSGML v1.0//EN
CALSCALE:GREGORIAN
METHOD:PUBLISH
X-ORIGINAL-URL:https://xia-project.iscte-iul.pt
X-WR-CALDESC:Events for XiA
REFRESH-INTERVAL;VALUE=DURATION:PT1H
X-Robots-Tag:noindex
X-PUBLISHED-TTL:PT1H
BEGIN:VTIMEZONE
TZID:Europe/Helsinki
BEGIN:DAYLIGHT
TZOFFSETFROM:+0200
TZOFFSETTO:+0300
TZNAME:EEST
DTSTART:20250330T010000
END:DAYLIGHT
BEGIN:STANDARD
TZOFFSETFROM:+0300
TZOFFSETTO:+0200
TZNAME:EET
DTSTART:20251026T010000
END:STANDARD
BEGIN:DAYLIGHT
TZOFFSETFROM:+0200
TZOFFSETTO:+0300
TZNAME:EEST
DTSTART:20260329T010000
END:DAYLIGHT
BEGIN:STANDARD
TZOFFSETFROM:+0300
TZOFFSETTO:+0200
TZNAME:EET
DTSTART:20261025T010000
END:STANDARD
BEGIN:DAYLIGHT
TZOFFSETFROM:+0200
TZOFFSETTO:+0300
TZNAME:EEST
DTSTART:20270328T010000
END:DAYLIGHT
BEGIN:STANDARD
TZOFFSETFROM:+0300
TZOFFSETTO:+0200
TZNAME:EET
DTSTART:20271031T010000
END:STANDARD
END:VTIMEZONE
BEGIN:VEVENT
DTSTART;VALUE=DATE:20260119
DTEND;VALUE=DATE:20260122
DTSTAMP:20260425T041110
CREATED:20260217T093333Z
LAST-MODIFIED:20260217T132120Z
UID:2019-1768780800-1769039999@xia-project.iscte-iul.pt
SUMMARY:Radical Health Festival Helsinki 2026
DESCRIPTION:XiA (Xpanding Innovative Alliance) will participate in the Radical Health Festival Helsinki 2026\, taking place from 19–21 January 2026 in Helsinki\, Finland. \nRecognised as Europe’s premier festival for health and care\, the event gathers policymakers\, healthcare leaders\, digital health innovators\, industry representatives and researchers to shape the future of health systems across Europe. \nAs Europe advances towards the implementation of the European Health Data Space (EHDS)\, XiA contributes to the dialogue by reinforcing interoperability skills and workforce readiness across the healthcare ecosystem. \nThe festival addresses key themes including digital transformation\, data-driven healthcare\, precision health\, and innovation at scale. These discussions are directly aligned with XiA’s mission to translate European interoperability specifications — including HL7 FHIR and the EEHRxF framework — into structured\, modular learning pathways and recognised competencies. \nThrough its participation\, XiA highlights the importance of: \n\nBuilding structured interoperability competencies across professions\nSupporting hospitals and IT providers in operational EHDS implementation\nBridging the gap between European standards and real-world healthcare practice\n\nXiA’s approach combines modular learning\, micro-credentials and cross-sector collaboration to accelerate the adoption of European digital health standards. \nThrough its participation\, XiA will contribute to strengthening European dialogue on interoperability skills development and the operational implementation of the European Health Data Space.
URL:https://xia-project.iscte-iul.pt/event/radical-health-festival-helsinki-2026/
LOCATION:Radical Health Festival 2026\, Helsinki\, Finland
CATEGORIES:Congress
ATTACH;FMTTYPE=image/png:https://xia-project.iscte-iul.pt/wp-content/uploads/2026/02/RH_New_Banner_1920x1080_px-scaled-1.png
END:VEVENT
END:VCALENDAR