BEGIN:VCALENDAR
VERSION:2.0
PRODID:-//XiA - ECPv6.15.11//NONSGML v1.0//EN
CALSCALE:GREGORIAN
METHOD:PUBLISH
X-ORIGINAL-URL:https://xia-project.iscte-iul.pt
X-WR-CALDESC:Events for XiA
REFRESH-INTERVAL;VALUE=DURATION:PT1H
X-Robots-Tag:noindex
X-PUBLISHED-TTL:PT1H
BEGIN:VTIMEZONE
TZID:Europe/Copenhagen
BEGIN:DAYLIGHT
TZOFFSETFROM:+0100
TZOFFSETTO:+0200
TZNAME:CEST
DTSTART:20250330T010000
END:DAYLIGHT
BEGIN:STANDARD
TZOFFSETFROM:+0200
TZOFFSETTO:+0100
TZNAME:CET
DTSTART:20251026T010000
END:STANDARD
BEGIN:DAYLIGHT
TZOFFSETFROM:+0100
TZOFFSETTO:+0200
TZNAME:CEST
DTSTART:20260329T010000
END:DAYLIGHT
BEGIN:STANDARD
TZOFFSETFROM:+0200
TZOFFSETTO:+0100
TZNAME:CET
DTSTART:20261025T010000
END:STANDARD
BEGIN:DAYLIGHT
TZOFFSETFROM:+0100
TZOFFSETTO:+0200
TZNAME:CEST
DTSTART:20270328T010000
END:DAYLIGHT
BEGIN:STANDARD
TZOFFSETFROM:+0200
TZOFFSETTO:+0100
TZNAME:CET
DTSTART:20271031T010000
END:STANDARD
END:VTIMEZONE
BEGIN:VEVENT
DTSTART;VALUE=DATE:20260519
DTEND;VALUE=DATE:20260522
DTSTAMP:20260425T023915
CREATED:20260217T154139Z
LAST-MODIFIED:20260218T091741Z
UID:2083-1779148800-1779407999@xia-project.iscte-iul.pt
SUMMARY:HIMSS Europe 2026
DESCRIPTION:XiA (Xpanding Innovative Alliance) will participate in HIMSS Europe 2026\, taking place from 19 to 21 May 2026 in Copenhagen\, Denmark. \nHIMSS Europe is one of the leading European conferences dedicated to digital health innovation\, bringing together healthcare leaders\, policymakers\, technology providers and interoperability experts to shape the future of healthcare systems across Europe. \nAs discussions focus on digital transformation\, data governance\, interoperability and secure health technologies\, XiA will contribute by promoting structured interoperability skills development and supporting the alignment of digital health competencies with European frameworks\, including EHDS-related initiatives. \nIn particular\, XiA will highlight the importance of: \n\nStrengthening digital and interoperability competencies across healthcare professions\nSupporting the implementation of European health data frameworks in practice\nBridging policy\, standards and real-world digital health deployment\n\nXiA’s participation in HIMSS Europe 2026 will contribute to reinforcing European dialogue on digital health transformation\, workforce readiness and sustainable interoperability implementation.
URL:https://xia-project.iscte-iul.pt/event/himss-europe-2026/
LOCATION:Bella Center Copenhagen\, Center Boulevard 5\, Copenhagen S\, 2300\, Denmark
CATEGORIES:Congress
ATTACH;FMTTYPE=image/jpeg:https://xia-project.iscte-iul.pt/wp-content/uploads/2026/02/H26DC-Thumbnail-2026-Modifie.jpg
END:VEVENT
END:VCALENDAR